BEGIN:VCALENDAR
VERSION:2.0
PRODID:-//Tukios.com/
BEGIN:VEVENT
UID:f30dad8e-fe9f-47f9-9a67-4c5bdaf83ad4@www.angelusfuneralhome.net
DTSTAMP:20260424T022628Z
DTSTART:20260429T000000Z
DTEND:20260429T003000Z
SUMMARY:Rosary
DESCRIPTION:
URL:https://www.angelusfuneralhome.net/obituaries/emilia-arciba
LOCATION: 1100 E Houston St  Beeville TX 78102
GEO:28.4055772;-97.737033
END:VEVENT
END:VCALENDAR