BEGIN:VCALENDAR
VERSION:2.0
PRODID:-//Tukios.com/
BEGIN:VEVENT
UID:84a1a2e5-6f1f-49df-a8e8-07b8e22fb5aa@www.angelusfuneralhome.net
DTSTAMP:20260424T022657Z
DTSTART:20260429T220000Z
DTEND:20260429T224500Z
SUMMARY:Mass
DESCRIPTION:
URL:https://www.angelusfuneralhome.net/obituaries/emilia-arciba
LOCATION: 609 E Gramman St  Beeville TX 78102
GEO:28.4076044;-97.7437498
END:VEVENT
END:VCALENDAR