BEGIN:VCALENDAR
VERSION:2.0
PRODID:-//Tukios.com/
BEGIN:VEVENT
UID:ba5325e0-56c9-49a5-8370-e4ea1b2e7955@www.angelusfuneralhome.net
DTSTAMP:20260424T022639Z
DTSTART:20260428T220000Z
DTEND:20260429T000000Z
SUMMARY:Visitation
DESCRIPTION:
URL:https://www.angelusfuneralhome.net/obituaries/emilia-arciba
LOCATION:Angelus Funeral Home 1100 E Houston St  Beeville TX 78102
GEO:28.4055772;-97.737033
END:VEVENT
END:VCALENDAR